BEGIN:VCALENDAR
VERSION:2.0
PRODID:-//Library Market//iCal Export//EN
BEGIN:VEVENT
SUMMARY:Do Art Productions: Creative Assembly
UID:11443
DTSTAMP:20260422T230800Z
DTSTART:20260714T140000Z
DTEND:20260714T160000Z
LOCATION:4200 South 18th Street, Lafayette, IN 47909, United States
ROOM: Dr. Lewis and Marjory Urschel Meeting Room
DESCRIPTION:Get in touch with your creative side and join us as we make ar
 t together with Do Art Productions! Tickets required and available by phon
 e or in person starting July 9
URL:https://tippecanoe.librarycalendar.com/event/do-art-productions-creati
 ve-assembly-11443
END:VEVENT
END:VCALENDAR
