BEGIN:VCALENDAR
VERSION:2.0
PRODID:-//Library Market//iCal Export//EN
BEGIN:VEVENT
SUMMARY:Camp Mangaka
UID:11486
DTSTAMP:20260422T092600Z
DTSTART:20260709T190000Z
DTEND:20260709T210000Z
LOCATION:4200 South 18th Street, Lafayette, IN 47909, United States
ROOM: Dr. Lewis and Marjory Urschel Meeting Room
DESCRIPTION:Join us to power up your sketch &amp; draw skills! Dive into t
 he world of Japanese art with our upcoming Manga &amp; Chibi Drawing Works
 hop. No experience necessary—just passion! 
URL:https://tippecanoe.librarycalendar.com/event/camp-mangaka-11486
END:VEVENT
END:VCALENDAR
