BEGIN:VCALENDAR
VERSION:2.0
PRODID:-//Library Market//iCal Export//EN
BEGIN:VEVENT
SUMMARY:Roz&#039;s Puppets Presents: Dinosaur Pirates!
UID:11589
DTSTAMP:20260419T184000Z
DTSTART:20260730T180000Z
DTEND:20260730T190000Z
LOCATION:3062 Lindberg Rd, West Lafayette, IN 47906, United States
ROOM: Tempest Homes Meeting Room
DESCRIPTION:Hit the high seas with this story of prehistoric proportions. 
 A treasure chest of music, antics, and audience participation. This experi
 ence has been millions of years in the making. Come enjoy a story to sink 
 your teeth into with this Dinosaur Pirate puppet adventure! Tickets requir
 ed and available by phone or in person starting July 27. 
URL:https://tippecanoe.librarycalendar.com/event/rozs-puppets-11589
END:VEVENT
END:VCALENDAR
