BEGIN:VCALENDAR
VERSION:2.0
PRODID:-//Library Market//iCal Export//EN
BEGIN:VEVENT
SUMMARY:AAAHHH! The Floor is Lava!
UID:11662
DTSTAMP:20260424T195300Z
DTSTART:20260627T190000Z
DTEND:20260627T210000Z
LOCATION:4200 South 18th Street, Lafayette, IN 47909, United States
ROOM: Dr. Lewis and Marjory Urschel Meeting Room
DESCRIPTION:Participants must use the available materials to make their wa
 y across the lava floor, but they must be careful not to touch the lava gr
 ound or risk being tagged by the lava monster! For kids, teens, families.Â
  
URL:https://tippecanoe.librarycalendar.com/event/floor-lava-11662
END:VEVENT
END:VCALENDAR
