BEGIN:VCALENDAR
VERSION:2.0
PRODID:-//Library Market//iCal Export//EN
BEGIN:VEVENT
SUMMARY:Lafayette Fun Squares
UID:12047
DTSTAMP:20260419T184000Z
DTSTART:20260519T223000Z
DTEND:20260519T231500Z
LOCATION:4200 South 18th Street, Lafayette, IN 47909, United States
ROOM: Dr. Lewis and Marjory Urschel Meeting Room
DESCRIPTION:Quarterly Meeting
URL:https://tippecanoe.librarycalendar.com/event/lafayette-fun-squares-120
 47
END:VEVENT
END:VCALENDAR
