BEGIN:VCALENDAR
VERSION:2.0
PRODID:-//Library Market//iCal Export//EN
BEGIN:VEVENT
SUMMARY:Meet Biscuit the Dog!
UID:12052
DTSTAMP:20260421T135500Z
DTSTART:20260710T180000Z
DTEND:20260710T190000Z
LOCATION:627 South Street, Lafayette, IN 47901, United States
ROOM: Alfred J. and Dorothy N. McAllister Meeting Room A+B
DESCRIPTION:Come and meet Biscuit the Dog from the famous books! Includes 
 storytime and craft! Tickets available by phone or in person starting July
  6.
URL:https://tippecanoe.librarycalendar.com/event/meet-biscuit-dog-12052
END:VEVENT
END:VCALENDAR
