BEGIN:VCALENDAR
VERSION:2.0
PRODID:-//Library Market//iCal Export//EN
BEGIN:VEVENT
SUMMARY:Author Sara Jane Coffman
UID:12061
DTSTAMP:20260422T230800Z
DTSTART:20260606T180000Z
DTEND:20260606T190000Z
LOCATION:3062 Lindberg Rd, West Lafayette, IN 47906, United States
ROOM: Tempest Homes Meeting Room
DESCRIPTION:I’m Older, Shouldn’t I be Smarter?Humor writer, Sara Jane 
 (Sally) Coffman, writes about the absurd and unusual things that have happ
 ened to her... and that have probably happened to you!Along with some of h
 er actor/friends, she’ll read stories from her books in a program guaran
 teed to make you laugh!  She’ll explain:Her near-death experience with 
 a boa-constrictor braWhat she replied when the doctor asked her to repeat 
 3 wordsHow she found herself in a men’s restroomAnd her many, many, many
  cooking disasters
URL:https://tippecanoe.librarycalendar.com/event/author-sara-jane-coffman-
 12061
END:VEVENT
END:VCALENDAR
