BEGIN:VCALENDAR
VERSION:2.0
PRODID:-//Library Market//iCal Export//EN
BEGIN:VEVENT
SUMMARY:P.E.O. Chapter EM
UID:12144
DTSTAMP:20260420T025800Z
DTSTART:20260924T170000Z
DTEND:20260924T193000Z
LOCATION:3062 Lindberg Rd, West Lafayette, IN 47906, United States
ROOM: Tempest Homes Meeting Room
DESCRIPTION:Monthly meeting.
URL:https://tippecanoe.librarycalendar.com/event/peo-chapter-em-12144
END:VEVENT
END:VCALENDAR
