BEGIN:VCALENDAR
VERSION:2.0
PRODID:-//Library Market//iCal Export//EN
BEGIN:VEVENT
SUMMARY:Harrison Lacrosse Club
UID:12242
DTSTAMP:20260419T160700Z
DTSTART:20260420T201500Z
DTEND:20260420T214500Z
LOCATION:3062 Lindberg Rd, West Lafayette, IN 47906, United States
ROOM: Tempest Homes Meeting Room
DESCRIPTION:Game Film Review
URL:https://tippecanoe.librarycalendar.com/event/harrison-lacrosse-12242
END:VEVENT
END:VCALENDAR
