BEGIN:VCALENDAR
VERSION:2.0
PRODID:-//Library Market//iCal Export//EN
BEGIN:VEVENT
SUMMARY:Harrison Lacrosse Club
UID:12243
DTSTAMP:20260422T230800Z
DTSTART:20260427T201500Z
DTEND:20260427T214500Z
LOCATION:3062 Lindberg Rd, West Lafayette, IN 47906, United States
ROOM: Tempest Homes Meeting Room
DESCRIPTION:Game Film Review
URL:https://tippecanoe.librarycalendar.com/event/harrison-lacrosse-12243
END:VEVENT
END:VCALENDAR
