BEGIN:VCALENDAR
VERSION:2.0
PRODID:-//Library Market//iCal Export//EN
BEGIN:VEVENT
SUMMARY:Mini Painting Night
UID:12259
DTSTAMP:20260421T135500Z
DTSTART:20260714T220000Z
DTEND:20260714T233000Z
LOCATION:627 South Street, Lafayette, IN 47901, United States
ROOM: Alfred J. and Dorothy N. McAllister Meeting Room B
DESCRIPTION:Join us for TCPL&#039;s first mini painting night! Come learn 
 how to paint or just hang out while working on a project. We will supply m
 inis, paints, and brushes. All skill levels are welcome. Age 16 and up.
URL:https://tippecanoe.librarycalendar.com/event/mini-painting-night-12259
END:VEVENT
END:VCALENDAR
