BEGIN:VCALENDAR
VERSION:2.0
PRODID:-//Library Market//iCal Export//EN
BEGIN:VEVENT
SUMMARY:Meet Biscuit the Dog!
UID:12282
DTSTAMP:20260421T135500Z
DTSTART:20260708T193000Z
DTEND:20260708T203000Z
LOCATION:3062 Lindberg Rd, West Lafayette, IN 47906, United States
ROOM: Tempest Homes Meeting Room
DESCRIPTION:Come and meet Biscuit the Dog from the famous books! Includes 
 storytime and craft! Tickets available by phone or in person starting July
  6.
URL:https://tippecanoe.librarycalendar.com/event/meet-biscuit-dog-12282
END:VEVENT
END:VCALENDAR
