BEGIN:VCALENDAR
VERSION:2.0
PRODID:-//Library Market//iCal Export//EN
BEGIN:VEVENT
SUMMARY:BIPOC &amp; LGBTQIA+ Fantasy Author Book Club
UID:12397
DTSTAMP:20260420T142900Z
DTSTART:20260502T190000Z
DTEND:20260502T210000Z
LOCATION:5542 E 50 S, Lafayette, IN 47905, United States
ROOM: Timberstone Homes Meeting Room
DESCRIPTION:Book Club R.F. Kuang Babel
URL:https://tippecanoe.librarycalendar.com/event/book-club-12397
END:VEVENT
END:VCALENDAR
