BEGIN:VCALENDAR
VERSION:2.0
PRODID:-//Library Market//iCal Export//EN
BEGIN:VEVENT
SUMMARY:Mahjong Afternoon
UID:12406
DTSTAMP:20260420T025800Z
DTSTART:20260521T180000Z
DTEND:20260521T200000Z
LOCATION:627 South Street, Lafayette, IN 47901, United States
ROOM: Alfred J. and Dorothy N. McAllister Meeting Room B
DESCRIPTION:Join us for Mahjong Afternoon at the Holeman Branch! We&#039;r
 e setting up the tiles for a casual afternoon of play. It&#039;s free to e
 veryone. Date: Thursday, May 21stTime: 2:00 pm - 4:00 pmCome join the tab
 le. See you there!
URL:https://tippecanoe.librarycalendar.com/event/mahjong-afternoon-12406
END:VEVENT
END:VCALENDAR
