BEGIN:VCALENDAR
VERSION:2.0
PRODID:-//Library Market//iCal Export//EN
BEGIN:VEVENT
SUMMARY:Book Life
UID:12548
DTSTAMP:20260424T093000Z
DTSTART:20260622T141500Z
DTEND:20260622T150000Z
LOCATION:627 South Street, Lafayette, IN 47901, United States
ROOM: Alfred J. and Dorothy N. McAllister Meeting Room A+B
DESCRIPTION:Book Life Book Club focuses on reading, friends, and fun!  Ad
 ults (ages 18 &amp; older) with intellectual and developmental disabilitie
 s and their caregivers are invited to join our book club.  Books will be 
 read popcorn style followed by a short activity, art project, or other fun
 ctional academic.  
URL:https://tippecanoe.librarycalendar.com/event/book-life-12548
END:VEVENT
END:VCALENDAR
