BEGIN:VCALENDAR
VERSION:2.0
PRODID:-//Library Market//iCal Export//EN
BEGIN:VEVENT
SUMMARY:Archaeology Dig Day
UID:9001
DTSTAMP:20260420T025800Z
DTSTART:20260616T180000Z
DTEND:20260616T190000Z
LOCATION:627 South Street, Lafayette, IN 47901, United States
ROOM: Alfred J. and Dorothy N. McAllister Meeting Room A+B
DESCRIPTION:Dig into summer by learning how to be an archaeologist! We&#03
 9;ll make fossils, uncover old relics, and more!No registration required.Â
  
URL:https://tippecanoe.librarycalendar.com/event/src-staff-programs-9001
END:VEVENT
END:VCALENDAR
