BEGIN:VCALENDAR
VERSION:2.0
PRODID:-//Library Market//iCal Export//EN
BEGIN:VEVENT
SUMMARY:Yahtzee!
UID:9003
DTSTAMP:20260420T070400Z
DTSTART:20260630T180000Z
DTEND:20260630T190000Z
LOCATION:627 South Street, Lafayette, IN 47901, United States
ROOM: Alfred J. and Dorothy N. McAllister Meeting Room A+B
DESCRIPTION:Join us for some rousing games of Yahtzee and see if the luck 
 of the die is with you.
URL:https://tippecanoe.librarycalendar.com/event/src-staff-programs-9003
END:VEVENT
END:VCALENDAR
