BEGIN:VCALENDAR
VERSION:2.0
PRODID:-//Library Market//iCal Export//EN
BEGIN:VEVENT
SUMMARY:Do Art Productions: Creative Assembly
UID:9005
DTSTAMP:20260420T070400Z
DTSTART:20260714T180000Z
DTEND:20260714T190000Z
LOCATION:627 South Street, Lafayette, IN 47901, United States
ROOM: Alfred J. and Dorothy N. McAllister Meeting Room A+B
DESCRIPTION:Get in touch with your creative side and join us as we make ar
 t together with Do Art Productions! Tickets required and available by phon
 e or in person starting July 9. 
URL:https://tippecanoe.librarycalendar.com/event/src-staff-programs-9005
END:VEVENT
END:VCALENDAR
