BEGIN:VCALENDAR
VERSION:2.0
PRODID:-//Library Market//iCal Export//EN
BEGIN:VEVENT
SUMMARY:Game Fair
UID:9007
DTSTAMP:20260420T070400Z
DTSTART:20260728T180000Z
DTEND:20260728T190000Z
LOCATION:627 South Street, Lafayette, IN 47901, United States
ROOM: Alfred J. and Dorothy N. McAllister Meeting Room A+B
DESCRIPTION:Join as we wind down the summer reading club with a game fair.
 Test your skills and see how well you do.
URL:https://tippecanoe.librarycalendar.com/event/src-staff-programs-9007
END:VEVENT
END:VCALENDAR
