BEGIN:VCALENDAR
VERSION:2.0
PRODID:-//Library Market//iCal Export//EN
BEGIN:VEVENT
SUMMARY:Music with Mrs. Kate
UID:9016
DTSTAMP:20260421T135500Z
DTSTART:20260603T180000Z
DTEND:20260603T190000Z
LOCATION:627 South Street, Lafayette, IN 47901, United States
ROOM: Alfred J. and Dorothy N. McAllister Meeting Room A+B
DESCRIPTION:Summer Reading Club opens with musical performer Mrs. Kate! W
 yandotte Branch: 10am Holman Branch: 2pm Tickets required and available 
 the Monday before the show. 
URL:https://tippecanoe.librarycalendar.com/event/src-thursday-special-wedn
 esday-9016
END:VEVENT
END:VCALENDAR
