BEGIN:VCALENDAR
VERSION:2.0
PRODID:-//Library Market//iCal Export//EN
BEGIN:VEVENT
SUMMARY:Dino Encounters with FelleREXpress
UID:9837
DTSTAMP:20260421T135500Z
DTSTART:20260610T220000Z
DTEND:20260610T230000Z
LOCATION:627 South Street, Lafayette, IN 47901, United States
ROOM: Alfred J. and Dorothy N. McAllister Meeting Room A+B
DESCRIPTION:Come see BIG dinosaurs right here at the library! Featuring a 
 short program and a meet and greet with a triceratops!Tickets required and
  available by phone or in person starting June 8. 
URL:https://tippecanoe.librarycalendar.com/event/dinosaurs-9837
END:VEVENT
END:VCALENDAR
